BEGIN:VCALENDAR
VERSION:2.0
PRODID:-//OIACI - ECPv6.15.20//NONSGML v1.0//EN
CALSCALE:GREGORIAN
METHOD:PUBLISH
X-WR-CALNAME:OIACI
X-ORIGINAL-URL:https://ohioisrael.org
X-WR-CALDESC:Events for OIACI
REFRESH-INTERVAL;VALUE=DURATION:PT1H
X-Robots-Tag:noindex
X-PUBLISHED-TTL:PT1H
BEGIN:VTIMEZONE
TZID:UTC
BEGIN:STANDARD
TZOFFSETFROM:+0000
TZOFFSETTO:+0000
TZNAME:UTC
DTSTART:20160101T000000
END:STANDARD
END:VTIMEZONE
BEGIN:VEVENT
DTSTART;VALUE=DATE:20170716
DTEND;VALUE=DATE:20170719
DTSTAMP:20260425T024805
CREATED:20181004T151128Z
LAST-MODIFIED:20181013T125808Z
UID:502-1500163200-1500422399@ohioisrael.org
SUMMARY:Cultivate 2017 (OFA 2017)
DESCRIPTION:Cultivate (OFA) 2017 International Horticulture tradeshow (www.cultivate17.org) took place in Columbus\, OH\, on July 16-18\, 2017.  Cultivate17 is the largest all-industry horticulture event and tradeshow in North America\, with over 100 professional sessions\, over 130 experts and speakers\, and many network opportunities.  There are 8 acres of tradeshow exhibits by over 675 exhibitors\, including technology\, new products & services\, and new plant varieties.  About 10\,000 professionals (including Reps of 2900 companies) representing all segments of the industry from all 50 U.S. states and about 32 countries\, attend the show.
URL:https://ohioisrael.org/event/cultivate-2017-ofa-2017/
LOCATION:Greater Columbus Convention Center\, 400 N High Street\, Columbus\, OH\, 43215\, United States
ATTACH;FMTTYPE=image/jpeg:https://ohioisrael.org/wp-content/uploads/2018/10/AmericanHort.jpg
END:VEVENT
END:VCALENDAR