BEGIN:VCALENDAR
VERSION:2.0
PRODID:-//OIACI - ECPv6.15.20//NONSGML v1.0//EN
CALSCALE:GREGORIAN
METHOD:PUBLISH
X-WR-CALNAME:OIACI
X-ORIGINAL-URL:https://ohioisrael.org
X-WR-CALDESC:Events for OIACI
REFRESH-INTERVAL;VALUE=DURATION:PT1H
X-Robots-Tag:noindex
X-PUBLISHED-TTL:PT1H
BEGIN:VTIMEZONE
TZID:UTC
BEGIN:STANDARD
TZOFFSETFROM:+0000
TZOFFSETTO:+0000
TZNAME:UTC
DTSTART:20170101T000000
END:STANDARD
END:VTIMEZONE
BEGIN:VTIMEZONE
TZID:Africa/Abidjan
BEGIN:STANDARD
TZOFFSETFROM:+0000
TZOFFSETTO:+0000
TZNAME:GMT
DTSTART:20180101T000000
END:STANDARD
END:VTIMEZONE
BEGIN:VTIMEZONE
TZID:America/New_York
BEGIN:DAYLIGHT
TZOFFSETFROM:-0500
TZOFFSETTO:-0400
TZNAME:EDT
DTSTART:20180311T070000
END:DAYLIGHT
BEGIN:STANDARD
TZOFFSETFROM:-0400
TZOFFSETTO:-0500
TZNAME:EST
DTSTART:20181104T060000
END:STANDARD
BEGIN:DAYLIGHT
TZOFFSETFROM:-0500
TZOFFSETTO:-0400
TZNAME:EDT
DTSTART:20190310T070000
END:DAYLIGHT
BEGIN:STANDARD
TZOFFSETFROM:-0400
TZOFFSETTO:-0500
TZNAME:EST
DTSTART:20191103T060000
END:STANDARD
BEGIN:DAYLIGHT
TZOFFSETFROM:-0500
TZOFFSETTO:-0400
TZNAME:EDT
DTSTART:20200308T070000
END:DAYLIGHT
BEGIN:STANDARD
TZOFFSETFROM:-0400
TZOFFSETTO:-0500
TZNAME:EST
DTSTART:20201101T060000
END:STANDARD
END:VTIMEZONE
BEGIN:VEVENT
DTSTART;VALUE=DATE:20191118
DTEND;VALUE=DATE:20191121
DTSTAMP:20260424T194606
CREATED:20181025T155601Z
LAST-MODIFIED:20181124T052228Z
UID:635-1574035200-1574294399@ohioisrael.org
SUMMARY:WATEC Israel
DESCRIPTION:WATEC Israel 2019 is an international professional exhibition that offers a meeting place for manufacturers\, researchers\, investors\, academics\, purchasers and decision-makers representing both local and international businesses.
URL:https://ohioisrael.org/event/watec-israel/
LOCATION:Tel Aviv Convention Center
ATTACH;FMTTYPE=image/jpeg:https://ohioisrael.org/wp-content/uploads/2018/10/logo-watecIsrael-2019-water-event-.jpg
END:VEVENT
BEGIN:VEVENT
DTSTART;TZID=Africa/Abidjan:20190917T000000
DTEND;TZID=Africa/Abidjan:20190919T235900
DTSTAMP:20260424T194606
CREATED:20181025T155354Z
LAST-MODIFIED:20181124T052201Z
UID:631-1568678400-1568937540@ohioisrael.org
SUMMARY:The Ohio State University Farm Science Review
DESCRIPTION:The Farm Science Review and attracts upwards of 140\,000 visitors from all over the United States and Canada\, who come for three days to peruse 4\,000 product lines from 600 commercial exhibitors\, and learn the latest in agricultural production. The educational programs feature Ohio State and Purdue specialists and are second to none in the agricultural exhibition world.
URL:https://ohioisrael.org/event/the-ohio-state-university-farm-science-review/
LOCATION:Molly Caren Agricultural Center\, 135 SR 38 NE\, London\, OH\, 43140\, United States
ATTACH;FMTTYPE=image/jpeg:https://ohioisrael.org/wp-content/uploads/2018/03/HopsFieldNight-e1543035611929.jpg
END:VEVENT
BEGIN:VEVENT
DTSTART;VALUE=DATE:20190713
DTEND;VALUE=DATE:20190717
DTSTAMP:20260424T194606
CREATED:20181025T155124Z
LAST-MODIFIED:20181025T155124Z
UID:628-1562976000-1563321599@ohioisrael.org
SUMMARY:AmericanHort Cultivate'19
DESCRIPTION:Cultivate – the largest all-industry trade show in North America. With over 120 educational sessions\, an 8-acre (and growing) trade show (known as the Solutions Marketplace)\, and plenty of networking activities to keep you busy for four days straight\, it’s the business investment that pays for itself over and over again. \nThis is where new products are revealed\, new plants are debuted\, milestones celebrated\, and business deals made.
URL:https://ohioisrael.org/event/americanhort-cultivate19/
LOCATION:Greater Columbus Convention Center\, Columbus\, OH\, United States
ATTACH;FMTTYPE=image/png:https://ohioisrael.org/wp-content/uploads/2018/10/AmericanHort_Cultivate19_logo_0.png
END:VEVENT
BEGIN:VEVENT
DTSTART;VALUE=DATE:20190624
DTEND;VALUE=DATE:20190628
DTSTAMP:20260424T194606
CREATED:20190320T110510Z
LAST-MODIFIED:20190320T110510Z
UID:848-1561334400-1561679999@ohioisrael.org
SUMMARY:Ohio Water Environment Association 2019 Technical Conference & Expo
DESCRIPTION:The OWEA annual conference is an opportunity to meet with hundreds of wastewater professionals. The conference schedule is built to give dedicated exhibit time and plenty of networking time. With more then 600 attendees expected\, it’s a can’t miss show.
URL:https://ohioisrael.org/event/ohio-water-environment-association-2019-technical-conference-expo/
LOCATION:Sawmill Creek Resort\, Huron\, OH\, United States
ATTACH;FMTTYPE=image/jpeg:https://ohioisrael.org/wp-content/uploads/2019/03/OWEA2019.jpg
END:VEVENT
BEGIN:VEVENT
DTSTART;VALUE=DATE:20190618
DTEND;VALUE=DATE:20190620
DTSTAMP:20260424T194606
CREATED:20190209T220039Z
LAST-MODIFIED:20190209T225025Z
UID:778-1560816000-1560988799@ohioisrael.org
SUMMARY:Fresh AgroMashov
DESCRIPTION:Israel’s International Agriculture Fair\nThe international “Agro-Mashov” agriculture exhibition in Israel has developed into the central and most important meeting point for the members of the agricultural industry from Europe\, Asia and Africa. Participants from the continents will arrive in Tel-Aviv for two days of fascinating meetings with the pivotal players in the world’s agricultural sector\, with the purpose of finding solutions to the problems currently facing farmers\, merchants and entrepreneurs operating in this field.
URL:https://ohioisrael.org/event/fresh-agromashovm/
LOCATION:Tel Aviv Convention Center
ATTACH;FMTTYPE=image/jpeg:https://ohioisrael.org/wp-content/uploads/2019/02/fresh_agromashov.jpg
END:VEVENT
BEGIN:VEVENT
DTSTART;VALUE=DATE:20190507
DTEND;VALUE=DATE:20190509
DTSTAMP:20260424T194606
CREATED:20190320T110101Z
LAST-MODIFIED:20190320T110558Z
UID:846-1557187200-1557359999@ohioisrael.org
SUMMARY:Ohio Rural Water Association 2019 Annual Conference
DESCRIPTION:The conference is designed for water and waste water managers from across the state with sessions covering current areas of concern in the water industry. The conference provides an opportunity to network with industry decision makers and learn more about new programs\, equipment and regulations in the industry.
URL:https://ohioisrael.org/event/ohio-rural-water-association-2019-annual-conference/
LOCATION:Embassy Suites\, 5100 Upper Metro Place\, Dublin\, OH\, 43017\, United States
ATTACH;FMTTYPE=image/png:https://ohioisrael.org/wp-content/uploads/2018/10/ORWA.png
END:VEVENT
BEGIN:VEVENT
DTSTART;VALUE=DATE:20190329
DTEND;VALUE=DATE:20190331
DTSTAMP:20260424T194606
CREATED:20190209T215318Z
LAST-MODIFIED:20190209T215318Z
UID:776-1553817600-1553990399@ohioisrael.org
SUMMARY:Small Farm Conference
DESCRIPTION:The two day conference is designed for small farm owners wanting to learn more about how to make their farms work better for them. Many topics will be offered to help landowners expand their operations. Land owners can attend workshops and seminars taught by Extension professionals and industry leaders on a wide variety of agricultural enterprises. \nDeadline for registration: March 22nd
URL:https://ohioisrael.org/event/small-farm-conference/
LOCATION:OSU South Centers\, 1864 Shyville Rd.\, Piketon\, OH\, 45661\, United States
ATTACH;FMTTYPE=image/jpeg:https://ohioisrael.org/wp-content/uploads/2018/03/HopsFieldNight-e1543035611929.jpg
END:VEVENT
BEGIN:VEVENT
DTSTART;TZID=America/New_York:20190325T083000
DTEND;TZID=America/New_York:20190325T153000
DTSTAMP:20260424T194606
CREATED:20190320T105806Z
LAST-MODIFIED:20190320T105806Z
UID:841-1553502600-1553527800@ohioisrael.org
SUMMARY:Ohio Agritourism Conference
DESCRIPTION:Join us to network with your peers from around the state and learn about the latest Agritourism trends and topics. The event will be hosted by Bill and Michelle Bakan at their Maize Valley Market and Winery. Maize Valley offers a Winery\, Craft Brewery\, Farm Market\, and Family Fun Zone. Tours of the farm will be offered as one of our education sessions. \nJoining us for this conference is the Ohio Department of Agriculture’s Director – Dorothy Pelanda. \nRegistration Deadline: Saturday\, March 23rd at 6:00pm
URL:https://ohioisrael.org/event/ohio-agritourism-conference/
LOCATION:Maize Valley Winery\, 6193 Edison Street NE\, Hartville\, OH\, 44632\, United States
ATTACH;FMTTYPE=image/jpeg:https://ohioisrael.org/wp-content/uploads/2019/03/ohio_agritourism_conf.jpg
END:VEVENT
BEGIN:VEVENT
DTSTART;TZID=America/New_York:20190316T080000
DTEND;TZID=America/New_York:20190316T160000
DTSTAMP:20260424T194606
CREATED:20190209T214643Z
LAST-MODIFIED:20190209T214643Z
UID:771-1552723200-1552752000@ohioisrael.org
SUMMARY:New Farm Conference and Trade Show
DESCRIPTION:The conference is designed for small farm owners wanting to learn more about how to make \ntheir farms work better for them. Many topics will be offered to help landowners expand their \noperations. Land owners can attend workshops and seminars taught by Extension \nprofessionals and industry leaders on a wide variety of agricultural enterprises. A trade show \nwill feature vendors unique to small farms. \nDeadline for Registration: March 1st
URL:https://ohioisrael.org/event/new-farm-conference-and-trade-show/
LOCATION:Northwest State Community College\, 22600 State Route 34\, Archbold\, OH\, 43502\, United States
ATTACH;FMTTYPE=image/jpeg:https://ohioisrael.org/wp-content/uploads/2018/03/HopsFieldNight-e1543035611929.jpg
END:VEVENT
BEGIN:VEVENT
DTSTART;TZID=UTC:20190221T190000
DTEND;TZID=UTC:20190221T210000
DTSTAMP:20260424T194606
CREATED:20181025T154854Z
LAST-MODIFIED:20181025T154854Z
UID:622-1550775600-1550782800@ohioisrael.org
SUMMARY:Spotlight Series: Seth Siegel
DESCRIPTION:Seth Siegel\, author of “Let There Be Water” will speak about Israeli innovation in water solutions.
URL:https://ohioisrael.org/event/spotlight-series-seth-siegel/
LOCATION:Grange Insurance Audubon Center\, 505 W. Whittier Street\, Columbus\, OH\, United States
ATTACH;FMTTYPE=image/jpeg:https://ohioisrael.org/wp-content/uploads/2018/10/seth-bio.jpg
END:VEVENT
BEGIN:VEVENT
DTSTART;VALUE=DATE:20190116
DTEND;VALUE=DATE:20190118
DTSTAMP:20260424T194606
CREATED:20181025T154337Z
LAST-MODIFIED:20181025T154337Z
UID:619-1547596800-1547769599@ohioisrael.org
SUMMARY:Ohio Produce Growers & Marketers Association 2019 - Ohio Produce Network
DESCRIPTION:The Ohio Produce Network is the annual gathering for the fresh produce industry\, including markets\, in Ohio. The two day event includes numerous educational programs\, a trade show\, and ample opportunities to network with your peers. It’s hosted in a family-friendly destination so that nobody is left at home.
URL:https://ohioisrael.org/event/ohio-produce-growers-marketers-association-2019-ohio-produce-network/
LOCATION:Embassy Suites\, 5100 Upper Metro Place\, Dublin\, OH\, 43017\, United States
ATTACH;FMTTYPE=image/png:https://ohioisrael.org/wp-content/uploads/2018/10/OPGMA.png
END:VEVENT
BEGIN:VEVENT
DTSTART;VALUE=DATE:20190109
DTEND;VALUE=DATE:20190111
DTSTAMP:20260424T194606
CREATED:20181123T192800Z
LAST-MODIFIED:20181123T192800Z
UID:671-1546992000-1547164799@ohioisrael.org
SUMMARY:Ohio Hops Growers Guild Annual Conference
DESCRIPTION:Bines to Steins – Ohio Hop Conference 2019 \nSessions include: \n\nSensory Analysis\nMaximizing Yield\nHop Growing Annual Calendar\nInsect / Disease Management\nHop Harvest Timing\nSelling Your Hops and more…\n\n 
URL:https://ohioisrael.org/event/ohio-hops-growers-guild-annual-conference/
LOCATION:Hyatt Regency Columbus\, 400 North High Street\, Columbus\, 43215\, United States
ATTACH;FMTTYPE=image/png:https://ohioisrael.org/wp-content/uploads/2018/11/OhioHopGrowers-Bines-to-Steins.png
END:VEVENT
BEGIN:VEVENT
DTSTART;TZID=UTC:20181219T093000
DTEND;TZID=UTC:20181219T153000
DTSTAMP:20260424T194606
CREATED:20181123T191042Z
LAST-MODIFIED:20181123T191203Z
UID:666-1545211800-1545233400@ohioisrael.org
SUMMARY:OSU-CFAES Grape and Wine Analysis Workshop
DESCRIPTION:An informative workshop to learn proven wine grape growing techniques\, acquire basic tools to successfully manage a vineyard\, and come away with a better understanding of how to get started in the wine business. Experts from the Ohio State University South Centers and Department of Horticulture Crop Science will be on hand for presentations and to answer your questions.
URL:https://ohioisrael.org/event/osu-cfaes-grape-and-wine-analysis-workshop/
LOCATION:OSU South Centers\, 1864 Shyville Rd.\, Piketon\, OH\, 45661\, United States
ATTACH;FMTTYPE=image/png:https://ohioisrael.org/wp-content/uploads/2018/11/CFAES-Grape-and-Wine.png
END:VEVENT
BEGIN:VEVENT
DTSTART;VALUE=DATE:20181127
DTEND;VALUE=DATE:20181130
DTSTAMP:20260424T194606
CREATED:20181123T190626Z
LAST-MODIFIED:20181123T191728Z
UID:660-1543276800-1543535999@ohioisrael.org
SUMMARY:Israfood - 35th International Exhibition for Food and Beverage
DESCRIPTION:Israfood is the main & most important trade event for the food and beverage industry in Israel. This exhibition is the main platform for a professional and business encounter between manufacturers & importers\, and representatives of the institutional\, professional\, retail chains sectors as well as the private sector.
URL:https://ohioisrael.org/event/israfood-35th-international-exhibition-for-food-and-beverage/
LOCATION:Israeli Trade Fairs & Convention Center\, Halls 10 and 11\, Tel-Aviv\, Israel
ATTACH;FMTTYPE=image/jpeg:https://ohioisrael.org/wp-content/uploads/2018/11/Israfood.jpg
END:VEVENT
BEGIN:VEVENT
DTSTART;VALUE=DATE:20181016
DTEND;VALUE=DATE:20181019
DTSTAMP:20260424T194606
CREATED:20181025T154048Z
LAST-MODIFIED:20181025T154048Z
UID:615-1539648000-1539907199@ohioisrael.org
SUMMARY:Ohio Rural Water Association 2018 Fall Expo
DESCRIPTION:The Fall Expo is one of our biggest events of the year! For two full days\, operators of rural water and wastewater systems from all over the Buckeye State come together to; socialize\, mingle with exhibitors of the latest equipment\, services\, and technologies\, and earn EPA-Approved Continuing Education credits\, all under one roof.
URL:https://ohioisrael.org/event/ohio-rural-water-association-2018-fall-expo/
LOCATION:Roberts Centre\, 123 Gano Road\, Wilmington\, OH\, 45177\, United States
ATTACH;FMTTYPE=image/png:https://ohioisrael.org/wp-content/uploads/2018/10/ORWA.png
END:VEVENT
BEGIN:VEVENT
DTSTART;VALUE=DATE:20181008
DTEND;VALUE=DATE:20181010
DTSTAMP:20260424T194606
CREATED:20181013T033342Z
LAST-MODIFIED:20181013T125244Z
UID:573-1538956800-1539129599@ohioisrael.org
SUMMARY:HOPS Field Night
DESCRIPTION:  \nThe tour will include:  \n~ Galvanized Trellis System \n~ Hop Mechanical Harvesting Demonstration \n~ Drying Demonstration \n~ Insect & Disease \n~ Pest Management \n~ Nutrient Management & Fertigation demonstration \n~ Drip Irrigation Management \n~ And more!
URL:https://ohioisrael.org/event/hops-field-night/
LOCATION:OSU South Centers\, 1864 Shyville Rd.\, Piketon\, OH\, 45661\, United States
ATTACH;FMTTYPE=image/png:https://ohioisrael.org/wp-content/uploads/2018/10/osuext.png
END:VEVENT
BEGIN:VEVENT
DTSTART;TZID=UTC:20180920T190000
DTEND;TZID=UTC:20180920T220000
DTSTAMP:20260424T194606
CREATED:20181013T040835Z
LAST-MODIFIED:20181013T125340Z
UID:607-1537470000-1537480800@ohioisrael.org
SUMMARY:Drink Local Drink Tap's 6th Annual Giving Splash Party
DESCRIPTION:As you know\, our Ugandan leader\, Kizito Johnson\, is coming next week to immerse himself in CLE\, learn and share. He will be visiting DLDT partner schools\, funders and things like\, City Hall\, Home Depot and a local drilling company. And\, he can’t wait to EAT! He will also be focused on fundraising.
URL:https://ohioisrael.org/event/drink-local-drink-taps-6th-annual-giving-splash-party/
LOCATION:Ernst & Young Event Space\, 950 Main Ave\, Cleveland\, OH\, 44113\, United States
ATTACH;FMTTYPE=image/png:https://ohioisrael.org/wp-content/uploads/2018/10/drinklocal.png
END:VEVENT
BEGIN:VEVENT
DTSTART;TZID=UTC:20180914T113000
DTEND;TZID=UTC:20180914T133000
DTSTAMP:20260424T194606
CREATED:20181013T040445Z
LAST-MODIFIED:20181013T125500Z
UID:602-1536924600-1536931800@ohioisrael.org
SUMMARY:Dayton Urban Ag Demo Project
DESCRIPTION:This is a homeless men’s shelter that grows its own food for the residents.  More information is found at the link.
URL:https://ohioisrael.org/event/dayton-urban-ag-demo-project/
LOCATION:Gateway Men’s Shelter\, 1921 S. Gettysburg Avenue\, Dayton\, OH\, 45417\, United States
ATTACH;FMTTYPE=image/png:https://ohioisrael.org/wp-content/uploads/2018/10/stvincentdepaul.png
END:VEVENT
BEGIN:VEVENT
DTSTART;TZID=UTC:20180913T170000
DTEND;TZID=UTC:20180913T193000
DTSTAMP:20260424T194606
CREATED:20181013T040047Z
LAST-MODIFIED:20181013T125506Z
UID:598-1536858000-1536867000@ohioisrael.org
SUMMARY:Toledo Gala
DESCRIPTION:Social event held by the Toledo Metropolitan Area Council of Governments (TMACOG).
URL:https://ohioisrael.org/event/toledo-gala/
LOCATION:Stranahan Theater – Great Hall\, 4645 Heatherdowns Blvd\, Toledo\, OH\, 43614\, United States
ATTACH;FMTTYPE=image/jpeg:https://ohioisrael.org/wp-content/uploads/2018/10/TMACOG.jpg
END:VEVENT
BEGIN:VEVENT
DTSTART;TZID=UTC:20180913T093000
DTEND;TZID=UTC:20180913T180000
DTSTAMP:20260424T194606
CREATED:20181013T035654Z
LAST-MODIFIED:20181013T125512Z
UID:594-1536831000-1536861600@ohioisrael.org
SUMMARY:Algal Bloom Conference
DESCRIPTION:The 3rd annual Understanding Algal Blooms: State of the Science conference will highlight current scientific knowledge including: lessons learned from other systems\, environmental and economic balance in agriculture\, and moving towards solutions. Presenters will come from regional agencies and institutions\, with an expected audience largely from Indiana\, Michigan and Ohio.
URL:https://ohioisrael.org/event/algal-bloom-conference/
LOCATION:Stranahan Center\, 4645 Heatherdowns Blvd.\, Toledo\, OH\, United States
ATTACH;FMTTYPE=image/png:https://ohioisrael.org/wp-content/uploads/2018/10/osuseagrant.png
END:VEVENT
BEGIN:VEVENT
DTSTART;VALUE=DATE:20180827
DTEND;VALUE=DATE:20180831
DTSTAMP:20260424T194606
CREATED:20181013T035119Z
LAST-MODIFIED:20181013T125518Z
UID:591-1535328000-1535673599@ohioisrael.org
SUMMARY:One Water - AWWA - WEA 2018 Technical Conference & Expo
DESCRIPTION:Technical conference with many meetings.
URL:https://ohioisrael.org/event/one-water-awwa-wea-2018-technical-conference-expo/
LOCATION:Greater Columbus Convention Center\, Columbus\, OH\, United States
ATTACH;FMTTYPE=image/png:https://ohioisrael.org/wp-content/uploads/2018/10/onewater.png
END:VEVENT
BEGIN:VEVENT
DTSTART;TZID=UTC:20180823T170000
DTEND;TZID=UTC:20180823T210000
DTSTAMP:20260424T194606
CREATED:20181013T034829Z
LAST-MODIFIED:20181013T125526Z
UID:587-1535043600-1535058000@ohioisrael.org
SUMMARY:Hops Field Night
DESCRIPTION:This field night is geared towards all growers\, new and experienced.  Some of the topics to be discussed are: \n\nGalvanized Trellis System\nHop Mechanical Harvesting Demonstration\nDrying Demonstration\nInsect & Disease\nPest Management\nNutrient Management & Fertigation demonstration\nDrip Irrigation Management
URL:https://ohioisrael.org/event/hops-field-night-2/
LOCATION:OARDC Horticulture Research Unit 2\, 5082 Oil City Road\, Wooster\, OH\, 44691\, United States
ATTACH;FMTTYPE=image/png:https://ohioisrael.org/wp-content/uploads/2018/10/osuext.png
END:VEVENT
BEGIN:VEVENT
DTSTART;TZID=UTC:20180816T170000
DTEND;TZID=UTC:20180816T210000
DTSTAMP:20260424T194606
CREATED:20181013T034435Z
LAST-MODIFIED:20181013T125533Z
UID:585-1534438800-1534453200@ohioisrael.org
SUMMARY:Soil & Water Field Night
DESCRIPTION:This free educational opportunity\, presented by OSU South Centers in partnership with Pike Soil and Water Conservation District and Pike County Solid Waste Management District\, will take place Thursday\, August 16 with registration beginning at 5 p.m. A light supper will immediately follow\, then attendees will depart on a wagon tour and attend field research presentations by OSU faculty and staff.
URL:https://ohioisrael.org/event/soil-water-field-night/
LOCATION:OSU South Centers\, 1864 Shyville Rd.\, Piketon\, OH\, 45661\, United States
ATTACH;FMTTYPE=image/png:https://ohioisrael.org/wp-content/uploads/2018/10/osuext.png
END:VEVENT
BEGIN:VEVENT
DTSTART;TZID=UTC:20180815T173000
DTEND;TZID=UTC:20180815T210000
DTSTAMP:20260424T194606
CREATED:20181013T034304Z
LAST-MODIFIED:20181013T125539Z
UID:581-1534354200-1534366800@ohioisrael.org
SUMMARY:Hops Field Night - Agriculture Incubator Foundation
DESCRIPTION:This field night is geared towards all growers\, new and experienced.  Some of the topics to be discussed are: \n\nGalvanized Trellis System\nHop Mechanical Harvesting Demonstration\nDrying Demonstration\nInsect & Disease\nPest Management\nNutrient Management & Fertigation demonstration\nDrip Irrigation Management
URL:https://ohioisrael.org/event/hops-field-night-agriculture-incubator-foundation/
LOCATION:Agriculture Incubator Foundation\, 13737 Middleton Pike\, Bowling Green\, OH\, United States
ATTACH;FMTTYPE=image/png:https://ohioisrael.org/wp-content/uploads/2018/10/osuext.png
END:VEVENT
BEGIN:VEVENT
DTSTART;TZID=UTC:20180814T090000
DTEND;TZID=UTC:20180814T160000
DTSTAMP:20260424T194606
CREATED:20181013T033921Z
LAST-MODIFIED:20181013T125546Z
UID:575-1534237200-1534262400@ohioisrael.org
SUMMARY:Chalet Debonne Vineyards
DESCRIPTION:See the most innovative and unique plants and products.  You can also visit the winery.  Network with the best the industry has to offer.
URL:https://ohioisrael.org/event/chalet-debonne-vineyards/
LOCATION:Chalet Debonne Vineyards\, 7850 Doty Road\, Madison\, OH\, United States
ATTACH;FMTTYPE=image/jpeg:https://ohioisrael.org/wp-content/uploads/2018/10/nglco.jpeg
END:VEVENT
BEGIN:VEVENT
DTSTART;VALUE=DATE:20180724
DTEND;VALUE=DATE:20180725
DTSTAMP:20260424T194606
CREATED:20181013T033041Z
LAST-MODIFIED:20181013T125552Z
UID:568-1532390400-1532476799@ohioisrael.org
SUMMARY:"Hops Products and Management Field Day"
DESCRIPTION:Topics covered include pest management\, drip irrigation\, and fertigation.  OIACI Program Director spoke with Brad Bergefurd\, who is in charge of the program\, and offered to invite Israeli Ag companies Reps to talk about relevant Israeli Ag technologies\, along with OIACI Program Director.
URL:https://ohioisrael.org/event/hops-products-and-management-field-day/
LOCATION:Ayars Family Farm\, 4381 Rosedale Rd.\, Mechanicsburg\, OH\, 43044\, United States
ATTACH;FMTTYPE=image/png:https://ohioisrael.org/wp-content/uploads/2018/10/osuext.png
END:VEVENT
BEGIN:VEVENT
DTSTART;VALUE=DATE:20180714
DTEND;VALUE=DATE:20180719
DTSTAMP:20260424T194606
CREATED:20181013T032246Z
LAST-MODIFIED:20181013T125616Z
UID:565-1531526400-1531958399@ohioisrael.org
SUMMARY:Cultivate 2018
DESCRIPTION:Many Israeli Ag\, horticulture and floriculture companies will attend\, and most of them will have booths at the show. OIACI will assist in promoting the Israeli companies that attend Cultivate 18 and make introductions for them\, as well as promote the OIACI program to attendees.
URL:https://ohioisrael.org/event/cultivate-2018/
LOCATION:Greater Columbus Convention Center\, Columbus\, OH\, United States
ATTACH;FMTTYPE=image/jpeg:https://ohioisrael.org/wp-content/uploads/2018/10/cultivate2018.jpeg
END:VEVENT
BEGIN:VEVENT
DTSTART;TZID=UTC:20180606T070000
DTEND;TZID=UTC:20180606T120000
DTSTAMP:20260424T194606
CREATED:20181013T031703Z
LAST-MODIFIED:20181013T125623Z
UID:561-1528268400-1528286400@ohioisrael.org
SUMMARY:OPGMA Summer Tour and Trade Show 2018
DESCRIPTION:The event included farm tours\, 9 professional Ag and farming related lectures (including presentations on the production of corn\, strawberry\, and bramble)\, networking\, and an Ag tradeshow. About 50 Ohio farmers and other Ag professionals attended the event and there were 9 exhibiting companies at the tradeshow.
URL:https://ohioisrael.org/event/opgma-summer-tour-and-trade-show-2018/
LOCATION:Witten Farm Market\, Lowell\, OH\, United States
ATTACH;FMTTYPE=image/png:https://ohioisrael.org/wp-content/uploads/2018/10/OPGMA.png
END:VEVENT
BEGIN:VEVENT
DTSTART;VALUE=DATE:20180530
DTEND;VALUE=DATE:20180601
DTSTAMP:20260424T194606
CREATED:20181012T222714Z
LAST-MODIFIED:20181013T125630Z
UID:558-1527638400-1527811199@ohioisrael.org
SUMMARY:Akron Global Water Alliance (AGWA) U.S. Smart Water Conference 2018
DESCRIPTION:The conference covered Smart Water – the systems\, technologies\, data and innovations that form the present and future of water utilities\, watershed management and water treatment\, and also dealt with toxins\, including HABs\, Algal Toxins\, DBPs\, Pharmaceuticals\, and other issues in water treatment.  It featured updates and presentations from the Ohio and US EPAs\, utilities\, water engineering firms and consultancies\, operators\, scientists and innovators from across the U.S. and across the world.  About 180 people in the water sector from Ohio\, the U.S. and other countries attended the event.
URL:https://ohioisrael.org/event/akron-global-water-alliance-agwa-u-s-smart-water-conference-2018/
LOCATION:OH
ATTACH;FMTTYPE=image/jpeg:https://ohioisrael.org/wp-content/uploads/2018/10/AGWA.jpg
END:VEVENT
BEGIN:VEVENT
DTSTART;VALUE=DATE:20180507
DTEND;VALUE=DATE:20180510
DTSTAMP:20260424T194606
CREATED:20181012T222247Z
LAST-MODIFIED:20181013T125636Z
UID:553-1525651200-1525910399@ohioisrael.org
SUMMARY:Ohio Rural Water Association 2018 Annual Conference and Exposition
DESCRIPTION:ORWA covers both water and wastewater sectors\, has >350 members\, and is part of the National Rural Water Association.  There were ~270 participants and 67 exhibitors.    Ohio EPA Deputy Director\, Karl Gebhardt\, who gave a keynote presentation at the conference\, mentioned OIACI and recommended that the conference participants look at Israeli innovations and technologies in the water sector and work with OIACI.  He gave Fluence’s small scale wastewater treatment technology as a specific example of Israeli technology and innovation in this sector.
URL:https://ohioisrael.org/event/ohio-rural-water-association-2018-annual-conference-and-exposition/
LOCATION:Embassy Suites\, 5100 Upper Metro Place\, Dublin\, OH\, 43017\, United States
ATTACH;FMTTYPE=image/png:https://ohioisrael.org/wp-content/uploads/2018/10/ORWA.png
END:VEVENT
END:VCALENDAR